Workbook

Sheet Datos
A1: ITINERANTES 2.3 | G1: Debe llegar hasta el final de la hoja por si tuviera que consignar algún dato necesario para la hoja "Impreso" | L1: Mes de los desplazamientos | Z1: MES EN QUE SE REALIZAN LOS DESPLAZAMIENTOS
A3: NOMBRE Y APELLIDOS DEL ITINERANTE | Q3: NIF.: | U3: % IRPF | Z3: ENERO | AA3: FEBRERO | AB3: MARZO | AC3: ABRIL | AD3: MAYO | AE3: JUNIO | AF3: JULIO | AG3: AGOSTO | AH3: SEPTIEMBRE | AI3: OCTUBRE | AJ3: NOVIEMBRE | AK3: DICIEMBRE
A4: NOMBRE Y APELLIDOS DEL DIRECTOR/A DEL CENTRO | R4: TIPO DE DESPLAZAMIENTO | Z4: Medio de locomoción | AH4: CENTRO DE EDUCACION ESPECIAL
Z5: V. propio | AA5: V. oficial | AB5: T.público | AC5: Taxi | AH5: CENTRO DE EDUCACIÓN PERMANENTE DE ADULTOS
A6: MI CENTRO DONDE ESTOY DESTINADO Ó CABECERA DEL CRA (SI ESTOY DESTINADO EN CRA) | G6: Tipo de centro | AH6: COLEGIO DE EDUCACIÓN INFANTIL Y PRIMARIA
G7: Nombre del centro | Z7: Clase de desplazamiento | AH7: COLEGIO RURAL AGRUPADO
G8: Localidad | Z8: Clases de Religión | AA8: Itinerantes de primaria | AB8: Itinerantes PT/AL atención a la diversidad | AC8: Tutores FCT | AD8: Prof. Música, Inglés o Ed. Física | AE8: Docencias aulas EPA | AF8: Claustros / Tutorías | AG8: PROA+, CONECTA2… | AH8: ESCUELA OFICIAL DE IDIOMAS
AH9: INSTITUTO DE EDUCACIÓN SECUNDARIA
A10: CUMPLIMENTAR SÓLO CUANDO ESTÁS DESTINADO EN UN CRA, PERO NO EN LA CABECERA DEL MISMO | Z10: COMPRUEBA QUE MES FECHA PRIMERO/ULTIMO VIAJE ES IGUAL A MES DE ITINERANCIAS | AF10: MES | AG10: MES ELEGIDO EN S1
A11: OTRA LOCALIDAD DEL CRA. | AD11: mes primero | AE11: =IF(M13="","",MONTH(M13)) | AF11: =IF(AE11=1,"Enero",IF(AE11=2,"Febrero",IF(AE11=3,"Marzo",IF(AE11=4,"Abril",IF(AE11=5,"Mayo",IF(AE11=6,"Junio",IF(AE11=9,"Septiembre",IF(AE11=10,"Octubre",IF(AE11=11,"Noviembre",IF(AE11=12,"Diciembre","")))))))))) | AG11: =S1 -> 0
Q12: =IF(M13="","",IF(AF11=S1,"","REVISE CASILLAS S1 Y M13")) | AD12: mes ultimo | AE12: =IF(M14="","",MONTH(M14)) | AF12: =IF(AE12=1,"Enero",IF(AE12=2,"Febrero",IF(AE12=3,"Marzo",IF(AE12=4,"Abril",IF(AE12=5,"Mayo",IF(AE12=6,"Junio",IF(AE12=9,"Septiembre",IF(AE12=10,"Octubre",IF(AE12=11,"Noviembre",IF(AE12=12,"Diciembre","")))))))))) | AG12: =S1 -> 0
E13: =CONCATENATE("Fechas de desplazamientos del mes de ",S1, " (dd/mm/aa)") -> Fechas de desplazamientos del mes de (dd/mm/aa) | J13: Primer dia | Q13: =IF(R3="","",IF(MID(R3,9,1)=AB34,"","REVISE SU NIF, ES ERRÓNEO")) | Z13: CALCULO DE LA LIQUIDACIÓN
J14: Último dia | Q14: =IF(M14="","",IF(AF12=S1,"","REVISE CASILLAS S1 Y M14")) | Z14: =IF(O18="V. propio",N$18,"") | AA14: =IF(O19="V. propio",N19,"") | AB14: =IF(O20="V. propio",N20,"") | AC14: =IF(O21="V. propio",N21,"") | AD14: =IF(O22="V. propio",N22,"") | AE14: =IF(O23="V. propio",N23,"") | AF14: =IF(O24="V. propio",N24,"") | AG14: =IF(O25="V. propio",N25,"") | AH14: =IF(O26="V. propio",N26,"") | AI14: =IF(O27="V. propio",N27,"") | AJ14: =IF(O28="V. propio",N28,"") | AK14: =IF(O29="V. propio",N29,"") | AL14: =IF(O30="V. propio",N30,"")
A15: Orden | B15: LOCALIDADES VISITADAS | J15: Inicio | L15: Regreso | N15: Locomoción | P15: Manutención | R15: Motivo del desplazamiento | X15: IMPORTE JUSTIFICADO DIETAS | Z15: LOCOMOCIÓN | AB15: Num. | AC15: Integro | AD15: Impuesto s/Renta Personas Fisicas | AH15: LIQUIDO A ABONAR
AD16: No sujeto | AE16: Sujeto | AF16: % retención | AG16: Retención
B17: PONER SÓLO LAS LOCALIDADES QUE HA VISITADO separadas con guión | J17: Hora (hh:mm) | K17: Día | L17: Hora (hh:mm) | M17: Día | N17: Kms. | O17: Medio transporte | P17: Medias | Q17: Enteras | Z17: Kms. | AB17: =SUM(Z14:AL14) -> 0 | AC17: =IF(AB17<>"",AB17*0.26,0) -> 0 | AD17: =IF(AB17<>"",AB17*0.26,0) -> 0 | AE17: =IF(AC17-AD17>0,AC17-AD17,0) -> 0 | AF17: =V3 -> 0 | AG17: =IF(AE17<>"",ROUND(AE17*AF17,2),0) -> 0 | AH17: =IF(AC17-AG17<>"",AC17-AG17,0) -> 0 | AJ17: MEDIAS JUSTIFICADAS | AK17: ENTERAS JUSTIFICADAS
A18: =IF(B18<>"","1º","") | M18: =IF(K18="","",K18) | Z18: Transporte público | AC18: =H33 -> 0 | AD18: =AC18 -> 0 | AE18: 0 | AG18: 0 | AH18: =AC18 -> 0 | AJ18: =IF(P18="","",IF(X18>26.67,26.67,X18)) | AK18: =IF(Q18="","",IF(X18>53.34,53.34,X18))
A19: =IF(AND(B18<>"",B19<>""),"2º","") | M19: =IF(K19="","",K19) | Z19: Peaje | AC19: =L33 -> 0 | AD19: =AC19 -> 0 | AE19: 0 | AG19: 0 | AH19: =AC19 -> 0 | AJ19: =IF(P19="","",IF(X19>26.67,26.67,X19)) | AK19: =IF(Q19="","",IF(X19>53.34,53.34,X19))
A20: =IF(AND(B19<>"",B20<>""),"3º","") | M20: =IF(K20="","",K20) | Z20: Aparcamiento | AC20: =J33 -> 0 | AD20: =AC20 -> 0 | AE20: 0 | AG20: 0 | AH20: =AC20 -> 0 | AJ20: =IF(P20="","",IF(X20>26.67,26.67,X20)) | AK20: =IF(Q20="","",IF(X20>53.34,53.34,X20))
A21: =IF(AND(B20<>"",B21<>""),"4º","") | M21: =IF(K21="","",K21) | Z21: TOTALES LOCOMOCIÓN | AC21: =SUM(AC17:AC20) -> 0 | AD21: =SUM(AD17:AD20) -> 0 | AE21: =SUM(AE17:AE20) -> 0 | AG21: =SUM(AG17:AG20) -> 0 | AH21: =SUM(AH17:AH20) -> 0 | AJ21: =IF(P21="","",IF(X21>26.67,26.67,X21)) | AK21: =IF(Q21="","",IF(X21>53.34,53.34,X21))
A22: =IF(AND(B21<>"",B22<>""),"5º","") | M22: =IF(K22="","",K22) | AJ22: =IF(P22="","",IF(X22>26.67,26.67,X22)) | AK22: =IF(Q22="","",IF(X22>53.34,53.34,X22))
A23: =IF(AND(B22<>"",B23<>""),"6º","") | M23: =IF(K23="","",K23) | Z23: MANUTENCIÓN | AB23: Resto localidades | AC23: Integro | AD23: Impuesto s/Renta Personas Fisicas | AH23: LIQUIDO A ABONAR | AJ23: =IF(P23="","",IF(X23>26.67,26.67,X23)) | AK23: =IF(Q23="","",IF(X23>53.34,53.34,X23))
A24: =IF(AND(B23<>"",B24<>""),"7º","") | M24: =IF(K24="","",K24) | AD24: No sujeto | AE24: Sujeto | AF24: % retención | AG24: Retención | AJ24: =IF(P24="","",IF(X24>26.67,26.67,X24)) | AK24: =IF(Q24="","",IF(X24>53.34,53.34,X24))
A25: =IF(AND(B24<>"",B25<>""),"8º","") | M25: =IF(K25="","",K25) | Z25: Medias con o sin pernocta | AB25: =Q33 -> 0 | AC25: =AB25*26.67 -> 0 | AD25: =AB25*26.67 -> 0 | AE25: =AC25-AD25 -> 0 | AF25: =V$3 -> 0 | AG25: =AE25*V$3 -> 0 | AH25: =AC25-AG25 -> 0 | AJ25: =IF(P25="","",IF(X25>26.67,26.67,X25)) | AK25: =IF(Q25="","",IF(X25>53.34,53.34,X25))
A26: =IF(AND(B25<>"",B26<>""),"9º","") | M26: =IF(K26="","",K26) | Z26: Enteras sin pernocta | AB26: =S33 -> 0 | AC26: =AB26*53.34 -> 0 | AD26: =AB26*26.67 -> 0 | AE26: =AC26-AD26 -> 0 | AF26: =V$3 -> 0 | AG26: =AE26*V$3 -> 0 | AH26: =AC26-AG26 -> 0 | AJ26: =IF(P26="","",IF(X26>26.67,26.67,X26)) | AK26: =IF(Q26="","",IF(X26>53.34,53.34,X26))
A27: =IF(AND(B26<>"",B27<>""),"10º","") | M27: =IF(K27="","",K27) | Z27: Enteras con pernocta | AB27: =U33 -> 0 | AC27: =AB27*53.34 -> 0 | AD27: =AB27*53.34 -> 0 | AE27: =IF(AD27>AC27,0,AC27-AD27) -> 0 | AF27: =V$3 -> 0 | AG27: =AE27*V$3 -> 0 | AH27: =AC27-AG27 -> 0 | AJ27: =IF(P27="","",IF(X27>26.67,26.67,X27)) | AK27: =IF(Q27="","",IF(X27>53.34,53.34,X27))
A28: =IF(AND(B27<>"",B28<>""),"11º","") | M28: =IF(K28="","",K28) | Z28: TOTALES | AC28: =SUM(AC25:AC27) -> 0 | AD28: =SUM(AD25:AD27) -> 0 | AE28: =SUM(AE25:AE27) -> 0 | AG28: =SUM(AG25:AG27) -> 0 | AH28: =SUM(AH25:AH27) -> 0 | AJ28: =IF(P28="","",IF(X28>26.67,26.67,X28)) | AK28: =IF(Q28="","",IF(X28>53.34,53.34,X28))
A29: =IF(AND(B28<>"",B29<>""),"12º","") | M29: =IF(K29="","",K29) | AJ29: =IF(P29="","",IF(X29>26.67,26.67,X29)) | AK29: =IF(Q29="","",IF(X29>53.34,53.34,X29))
A30: =IF(AND(B29<>"",B30<>""),"13º","") | M30: =IF(K30="","",K30) | AJ30: =IF(P30="","",IF(X30>26.67,26.67,X30)) | AK30: =IF(Q30="","",IF(X30>53.34,53.34,X30))
AA31: CALCULA DNI LETRA | AJ31: =SUM(AJ18:AJ30) -> 0 | AK31: =SUM(AK18:AK30) -> 0
F32: OTROS GASTOS | H32: Transporte público | J32: Aparcamiento | L32: Peaje | O32: DETALLE DE LA MANUTENCIÓN | Q32: Medias | S32: Enteras sin pernocta | U32: Enteras con pernocta | AA32: TRWAGMYFPDXBNJZSQVHLCKE
F33: Importe justificante
O34: =IF(SUM(P18:P30)<>Q33,"AVISO: Los datos NO se corresponden con los consignados en columnas de Manutención",IF(SUM(Q18:Q30)<>SUM(S33:U33),"AVISO:Los datos NO se corresponden con los consignados en columnas de Manutención","")) | AA34: =MID(R3,1,8) | AB34: =MID($AA$32,MOD(AA34,23)+1,1) -> #VALUE!
A41: NO IMPRIMA ESTA HOJA "DATOS".
D43: IMPRIMA LA OTRA HOJA "IMPRESO" | L43: A TAMAÑO AJUSTADO A4
Z44: CRA | AA44: SEDE | AB44: otras LOCALIDADES del cra | AD44: LOCALIDADES QUE ITINERAN | AF44: NOMBRES DE CENTROS QUE ITINERAN
D45: UNA VEZ FIRMADA Y SELLADA POR DIRECCIÓN DEL CENTRO, | Z45: VALLE DEL ALAGÓN | AA45: ALAGON
Z46: AMBROZ | AA46: ZARZA DE GRANADILLA | AB46: Abadía | AD46: ACEBO | AF46: ÁGORA
D47: ENVÍAR ORIGINAL A GESTIÓN ECONÓMICA | Z47: LLANOS DE LA VEGA | AA47: CAMPO LUGAR | AB47: Abertura | AD47: ACEHUCHE | AF47: ALAGÓN
Z48: LA PAZ | AA48: SANTIBAÑAEZ EL BAJO | AB48: Aceituna | AD48: AHIGAL | AF48: ALBA PLATA
D49: PREFERIBLEMENTE POR CORREO POSTAL ORDINARIO | Z49: ORDEN DE SANTIAGO | AA49: MONTANCHEZ | AB49: Albalá | AD49: ALAGÓN | AF49: ALBALAT
Z50: LLANOS DE LA VEGA | AA50: CAMPO LUGAR | AB50: Alcollarín | AD50: ALCÁNTARA | AF50: ALCONÉTAR
Z51: QUERCUS | AA51: ALDEACENTENERA | AB51: Aldea del Obispo, La | AD51: ALCUÉSCAR | AF51: ALFONSO VIII
Z52: VÍA DE LA PLATA | AA52: BAÑOS DE MONTEMAYOR | AB52: Aldeanueva del Camino | AD52: ALDEA DEL CANO | AF52: ALMANZOR
Z53: VALLE DEL ALAGÓN | AA53: ALAGON | AB53: Aldehuela de Jerte | AD53: ALDEACENTENERA | AF53: AL-QAZERES
Z54: EL MANANTIAL | AA54: ESCURIAL | AB54: Alonso de Ojeda | AD54: ALDEANUEVA DE LA VERA | AF54: AMANDO BARBOSA
Z55: VERA-TIÉTAR | AA55: TEJEDA DE TIETAR | AB55: Arroyomolinos de la Vera | AD55: ALÍA | AF55: AMBROZ
Z56: RISCOS DE VILLAVIEJA | AA56: CASAS DEL CASTAÑAR | AB56: Barrado | AD56: ALISEDA | AF56: ARCO IRIS
Z57: RÍO TAJO | AA57: SAUCEDILLA | AB57: Belvís de Monroy | AD57: ALMARAZ | AF57: ARTURO PLAZA
Z58: MONTELLANO | AA58: GARCIAZ | AB58: Berzocana | AD58: ALMOHARÍN | AF58: ATENCIÓN ALUMNADO T.E.A.
Z59: VALLE DEL SALOR | AA59: VALDEFUENTES | AB59: Botija | AD59: ARROYO DE LA LUZ | AF59: ATENCIÓN ALUMNADO T.G.C.
Z60: TRAS LA SIERRA | AA60: TORNO, EL | AB60: Cabezabellosa | AD60: ARROYOMOLINOS | AF60: ATENCIÓN TEMPRANA
Z61: RISCOS DE VILLAVIEJA | AA61: CASAS DEL CASTAÑAR | AB61: Cabrero | AD61: AZABAL | AF61: AUGUSTÓBRIGA
... Z129: VÍA DE LA PLATA | AA129: BAÑOS DE MONTEMAYOR | AB129: Zarza de Montánchez | AD129: NAVALVILLAR DE IBOR | AF129: JALAMA
Z130: LLANOS DE LA VEGA | AA130: CAMPO LUGAR | AD130: NAVAS DEL MADROÑO | AF130: JARANDA
Z131: RISCOS DE VILLAVIEJA | AA131: CASAS DEL CASTAÑAR | AD131: NUÑOMORAL | AF131: JEROMÍN
Z132: MAESTRO VICTORIANO MATEOS | AA132: CUMBRE, LA | AD132: PALOMERO | AF132: JOAQUÍN BALLESTEROS
Z133: LAS VILLUERCAS | AA133: DELEITOSA | AD133: PERALEDA DE LA MATA | AF133: JOAQUÍN ÚBEDA
Z134: EL MANANTIAL | AA134: ESCURIAL | AD134: PERALES DEL PUERTO | AF134: JOSÉ PAVÓN
Z135: MONTELLANO | AA135: GARCIAZ | AD135: PESGA (LA) | AF135: JUAN GÜEL
Z136: ENTRE CANALES | AA136: HOLGUERA | AD136: PINOFRANQUEADO | AF136: LA ACEQUIA
Z137: LOS ALIJARES | AA137: IBAHERNANDO | AD137: PIORNAL | AF137: LA ALMENARA
Z138: ORDEN DE SANTIAGO | AA138: MONTANCHEZ | AD138: PLASENCIA | AF138: LA COMETA
Z139: VALDELAZOR | AA139: NUÑOMORAL | AD139: PORTAJE | AF139: LA ERAS
Z140: VALDELAZOR | AA140: NUÑOMORAL | AD140: PORTEZUELO | AF140: LA JARA
Z141: VALDELAZOR | AA141: NUÑOMORAL | AD141: POZUELO DE ZARZÓN | AF141: LA MAYA
... Z156: AMBROZ | AA156: ZARZA DE GRANADILLA | AD156: TALAVERUELA | AF156: LOS CONQUISTADORES
AD157: TALAYUELA | AF157: LOS CUATRO LUGARES
AD158: TEJEDA DE TIÉTAR | AF158: LOS GARABATOS
AD159: TIÉTAR | AF159: LOUSTAUVALVERDE
AD160: TORNAVACAS | AF160: LUCIO GARCÍA
AD161: TORNO (EL) | AF161: LUIS CHAMIZO
AD162: TORRECILLA DE LA TIESA | AF162: LUIS DE MORALES
AD163: TORRECILLA DE LOS ÁNGELES | AF163: MªDE LOS ÁNGELES BALLESTEROS
AD164: TORREJÓN EL RUBIO | AF164: MAESTRO GONZALO KORREAS
AD165: TORREJONCILLO | AF165: MAESTRO SÁNCHEZ ÁVILA
AD166: TORREORGAZ | AF166: MAESTRO VICTORIANO MATEOS
AD167: TRUJILLO | AF167: MANUEL MAREQUE
AD168: VALDEFUENTES | AF168: MARCOS BEAS(E.H.)
... AD183: ZORITA | AF183: NTRA.SRA. DE LA MONTAÑA
AF184: NTRA.SRA. DE LA O
AF185: NTRA.SRA. DE SOPETRÁN
AF186: NTRA.SRA. DEL PUERTO
AF187: NTRA.SRA. DEL SALOR
AF188: NTRA.SRA. LA SOTERRAÑA (E.h)
AF189: NTRA.SRA.DE FÁTIMA
AF190: NTRA.SRA.DE FUENSANTA
AF191: NTRA.SRA.DE LA ASUNCION
AF192: NTRA.SRA.DE LA PIEDAD
AF193: NTRA.SRA.DE LAS ANGUSTIAS
AF194: NTRA.SRA.DE LAS NIEVES
AF195: NTRA.SRA.DE SEQUEROS
... AF286: ZURBARÁN

Sheet Impreso
A2: CONSEJERÍA DE EDUCACIÓN Y FORMACIÓN PROFESIONAL | N2: Nº Factura
A3: Delegación Provincial | K3: Indemnizaciones por razón del servicio de | O3: =PROPER(Datos!S1)
A4: CÁCERES
C5: Nombre: | F5: =UPPER(Datos!E3) | O5: IRPF: | P5: =Datos!V3 -> 0
A6: Centro destino o cabecera: | G6: =IF(Datos!I6="ESCUELA OFICIAL DE IDIOMAS","E.O.I."&UPPER(Datos!I7)&" de "&UPPER(Datos!I8),IF(Datos!I6="COLEGIO DE EDUCACIÓN INFANTIL Y PRIMARIA","C.E.I.P. "&UPPER(Datos!I7)&" de "&UPPER(Datos!I8),IF(Datos!I6="COLEGIO RURAL AGRUPADO","C.R.A. "&UPPER(Datos!I7)&" de "&UPPER(Datos!I8),IF(Datos!I6="INSTITUTO DE EDUCACIÓN SECUNDARIA","I.E.S. "&UPPER(Datos!I7)&" de "&UPPER(Datos!I8),IF(Datos!I6="CENTRO DE EDUCACIÓN PERMANENTE DE ADULTOS","C.E.P.A. "&UPPER(Datos!I7)&" de "&UPPER(Datos!I8),IF(Datos!I6="CENTRO DE EDUCACION ESPECIAL","C.E.E."&UPPER(Datos!I7)&" de "&UPPER(Datos!I8),)))))) -> 0 | O6: NIF: | P6: =IF(Datos!R3<>"",Datos!R3,"")
A7: Centro destino distinto cabecera CRA | I7: =UPPER(Datos!G11)
A8: ORDEN DE SERVICIO . Propuesta y aprobación
A9: Conforme a lo establecido en el Decreto 42/2025, de 19 de mayo (DOE nº 101 de 28/5), el órgano abajo firmante, propone que por la persona que figura en el encabezamiento se realicen las comisiones que seguidamente se indican y en los términos que igualmente se señalan:
A10: SALIDA | C10: REGRESO | E10: ITINERARIO A REALIZAR | L10: Medio de transporte | M10: Motivo de la comisión o desplazamiento
A11: hora | B11: día | C11: hora | D11: día
A12: =Datos!J18 -> 0 | B12: =Datos!K18 -> 0 | C12: =Datos!L18 -> 0 | D12: =Datos!M18 | E12: =IF(Datos!B18<>"",(IF(Datos!$G$11="",CONCATENATE(Datos!$I$8,"-",Datos!B18,"-",Datos!$I$8),CONCATENATE(Datos!$G$11,"-",Datos!B18,"-",Datos!$G$11,))),"") | L12: =Datos!O18 -> 0 | M12: =UPPER(Datos!R18)
A13: =Datos!J19 -> 0 | B13: =Datos!K19 -> 0 | C13: =Datos!L19 -> 0 | D13: =Datos!M19 | E13: =IF(Datos!B19<>"",(IF(Datos!$G$11="",CONCATENATE(Datos!$I$8,"-",Datos!B19,"-",Datos!$I$8),CONCATENATE(Datos!$G$11,"-",Datos!B19,"-",Datos!$G$11,))),"") | L13: =Datos!O19 -> 0 | M13: =UPPER(Datos!R19)
A14: =Datos!J20 -> 0 | B14: =Datos!K20 -> 0 | C14: =Datos!L20 -> 0 | D14: =Datos!M20 | E14: =IF(Datos!B20<>"",(IF(Datos!$G$11="",CONCATENATE(Datos!$I$8,"-",Datos!B20,"-",Datos!$I$8),CONCATENATE(Datos!$G$11,"-",Datos!B20,"-",Datos!$G$11,))),"") | L14: =Datos!O20 -> 0 | M14: =UPPER(Datos!R20)
A15: =Datos!J21 -> 0 | B15: =Datos!K21 -> 0 | C15: =Datos!L21 -> 0 | D15: =Datos!M21 | E15: =IF(Datos!B21<>"",(IF(Datos!$G$11="",CONCATENATE(Datos!$I$8,"-",Datos!B21,"-",Datos!$I$8),CONCATENATE(Datos!$G$11,"-",Datos!B21,"-",Datos!$G$11,))),"") | L15: =Datos!O21 -> 0 | M15: =UPPER(Datos!R21)
A16: =Datos!J22 -> 0 | B16: =Datos!K22 -> 0 | C16: =Datos!L22 -> 0 | D16: =Datos!M22 | E16: =IF(Datos!B22<>"",(IF(Datos!$G$11="",CONCATENATE(Datos!$I$8,"-",Datos!B22,"-",Datos!$I$8),CONCATENATE(Datos!$G$11,"-",Datos!B22,"-",Datos!$G$11,))),"") | L16: =Datos!O22 -> 0 | M16: =UPPER(Datos!R22)
A17: =Datos!J23 -> 0 | B17: =Datos!K23 -> 0 | C17: =Datos!L23 -> 0 | D17: =Datos!M23 | E17: =IF(Datos!B23<>"",(IF(Datos!$G$11="",CONCATENATE(Datos!$I$8,"-",Datos!B23,"-",Datos!$I$8),CONCATENATE(Datos!$G$11,"-",Datos!B23,"-",Datos!$G$11,))),"") | L17: =Datos!O23 -> 0 | M17: =UPPER(Datos!R23)
A18: =Datos!J24 -> 0 | B18: =Datos!K24 -> 0 | C18: =Datos!L24 -> 0 | D18: =Datos!M24 | E18: =IF(Datos!B24<>"",(IF(Datos!$G$11="",CONCATENATE(Datos!$I$8,"-",Datos!B24,"-",Datos!$I$8),CONCATENATE(Datos!$G$11,"-",Datos!B24,"-",Datos!$G$11,))),"") | L18: =Datos!O24 -> 0 | M18: =UPPER(Datos!R24)
A19: =Datos!J25 -> 0 | B19: =Datos!K25 -> 0 | C19: =Datos!L25 -> 0 | D19: =Datos!M25 | E19: =IF(Datos!B25<>"",(IF(Datos!$G$11="",CONCATENATE(Datos!$I$8,"-",Datos!B25,"-",Datos!$I$8),CONCATENATE(Datos!$G$11,"-",Datos!B25,"-",Datos!$G$11,))),"") | L19: =Datos!O25 -> 0 | M19: =UPPER(Datos!R25)
A20: =Datos!J26 -> 0 | B20: =Datos!K26 -> 0 | C20: =Datos!L26 -> 0 | D20: =Datos!M26 | E20: =IF(Datos!B26<>"",(IF(Datos!$G$11="",CONCATENATE(Datos!$I$8,"-",Datos!B26,"-",Datos!$I$8),CONCATENATE(Datos!$G$11,"-",Datos!B26,"-",Datos!$G$11,))),"") | L20: =Datos!O26 -> 0 | M20: =UPPER(Datos!R26)
A21: =Datos!J27 -> 0 | B21: =Datos!K27 -> 0 | C21: =Datos!L27 -> 0 | D21: =Datos!M27 | E21: =IF(Datos!B27<>"",(IF(Datos!$G$11="",CONCATENATE(Datos!$I$8,"-",Datos!B27,"-",Datos!$I$8),CONCATENATE(Datos!$G$11,"-",Datos!B27,"-",Datos!$G$11,))),"") | L21: =Datos!O27 -> 0 | M21: =UPPER(Datos!R27)
A22: =Datos!J28 -> 0 | B22: =Datos!K28 -> 0 | C22: =Datos!L28 -> 0 | D22: =Datos!M28 | E22: =IF(Datos!B28<>"",(IF(Datos!$G$11="",CONCATENATE(Datos!$I$8,"-",Datos!B28,"-",Datos!$I$8),CONCATENATE(Datos!$G$11,"-",Datos!B28,"-",Datos!$G$11,))),"") | L22: =Datos!O28 -> 0 | M22: =UPPER(Datos!R28)
A23: =Datos!J29 -> 0 | B23: =Datos!K29 -> 0 | C23: =Datos!L29 -> 0 | D23: =Datos!M29 | E23: =IF(Datos!B29<>"",(IF(Datos!$G$11="",CONCATENATE(Datos!$I$8,"-",Datos!B29,"-",Datos!$I$8),CONCATENATE(Datos!$G$11,"-",Datos!B29,"-",Datos!$G$11,))),"") | L23: =Datos!O29 -> 0 | M23: =UPPER(Datos!R29)
A24: =Datos!J30 -> 0 | B24: =Datos!K30 -> 0 | C24: =Datos!L30 -> 0 | D24: =Datos!M30 | E24: =IF(Datos!B30<>"",(IF(Datos!$G$11="",CONCATENATE(Datos!$I$8,"-",Datos!B30,"-",Datos!$I$8),CONCATENATE(Datos!$G$11,"-",Datos!B30,"-",Datos!$G$11,))),"") | L24: =Datos!O30 -> 0 | M24: =UPPER(Datos!R30)
A25: Proponente | L25: Autorizado
A26: =IF(Datos!I8<>"","En "&UPPER(Datos!I8)&" a","") | I26: =IF(Datos!M13<>"",(Datos!M13),"") | L26: EL DELEGADO PROVINCIAL DE EDUCACION
A27: LA DIRECCIÓN DEL CENTRO | L27: P.D. Resolución de 13/05/26 (DOE nº 92, de 15/05/26)
A28: =IF(AND(Datos!$S$1<>"",Datos!$E$3<>"",Datos!$R$3<>"",Datos!$V$3<>"",Datos!$I$4<>"",Datos!$U$4<>"",Datos!$I$6<>"",Datos!$I$8<>"",Datos!$M$13<>"",Datos!$M$14<>""),"","FALTAN DATOS EN HOJA DATOS") -> FALTAN DATOS EN HOJA DATOS
L29: =IF(AND(Datos!$S$1<>"",Datos!$E$3<>"",Datos!$R$3<>"",Datos!$V$3<>"",Datos!$I$4<>"",Datos!$U$4<>"",Datos!$I$6<>"",Datos!$I$8<>"",Datos!$M$13<>"",Datos!$M$14<>""),"","FALTAN DATOS EN HOJA DATOS") -> FALTAN DATOS EN HOJA DATOS
A32: =IF(Datos!I4<>"","Fdo.- "&PROPER(Datos!I4),"") | L32: Fdo.- Eduardo Villaverde Torrecilla
A33: EJECUCION DE LAS COMISIONES
A34: El comisionado declara haber efectuado los desplazamientos de conformidad con las comisiones de servicio aprobadas y realizado los gastos en dietas por manutención y/o alojamiento según lo indicado a continuación:
A36: SALIDA | C36: REGRESO | E36: ITINERARIO REALIZADO | P36: Nº Kms. | Q36: Nº 1/2 manut.
A37: hora | B37: día | C37: hora | D37: día
A38: =Datos!J18 -> 0 | B38: =Datos!K18 -> 0 | C38: =Datos!L18 -> 0 | D38: =Datos!M18 | E38: =IF(Datos!B18<>"",(IF(Datos!$G$11="",CONCATENATE(Datos!$I$8,"-",Datos!B18,"-",Datos!$I$8),CONCATENATE(Datos!$G$11,"-",Datos!B18,"-",Datos!$G$11,))),"") | P38: =IF(L12="V. propio",Datos!N18,"") | Q38: =IF(Datos!P18="","",Datos!P18+Datos!Q18*2)
A39: =Datos!J19 -> 0 | B39: =Datos!K19 -> 0 | C39: =Datos!L19 -> 0 | D39: =Datos!M19 | E39: =IF(Datos!B19<>"",(IF(Datos!$G$11="",CONCATENATE(Datos!$I$8,"-",Datos!B19,"-",Datos!$I$8),CONCATENATE(Datos!$G$11,"-",Datos!B19,"-",Datos!$G$11,))),"") | P39: =IF(L13="V. propio",Datos!N19,"") | Q39: =IF(Datos!P19="","",Datos!P19+Datos!Q19*2)
A40: =Datos!J20 -> 0 | B40: =Datos!K20 -> 0 | C40: =Datos!L20 -> 0 | D40: =Datos!M20 | E40: =IF(Datos!B20<>"",(IF(Datos!$G$11="",CONCATENATE(Datos!$I$8,"-",Datos!B20,"-",Datos!$I$8),CONCATENATE(Datos!$G$11,"-",Datos!B20,"-",Datos!$G$11,))),"") | P40: =IF(L14="V. propio",Datos!N20,"") | Q40: =IF(Datos!P20="","",Datos!P20+Datos!Q20*2)
A41: =Datos!J21 -> 0 | B41: =Datos!K21 -> 0 | C41: =Datos!L21 -> 0 | D41: =Datos!M21 | E41: =IF(Datos!B21<>"",(IF(Datos!$G$11="",CONCATENATE(Datos!$I$8,"-",Datos!B21,"-",Datos!$I$8),CONCATENATE(Datos!$G$11,"-",Datos!B21,"-",Datos!$G$11,))),"") | P41: =IF(L15="V. propio",Datos!N21,"") | Q41: =IF(Datos!P21="","",Datos!P21+Datos!Q21*2)
A42: =Datos!J22 -> 0 | B42: =Datos!K22 -> 0 | C42: =Datos!L22 -> 0 | D42: =Datos!M22 | E42: =IF(Datos!B22<>"",(IF(Datos!$G$11="",CONCATENATE(Datos!$I$8,"-",Datos!B22,"-",Datos!$I$8),CONCATENATE(Datos!$G$11,"-",Datos!B22,"-",Datos!$G$11,))),"") | P42: =IF(L16="V. propio",Datos!N22,"") | Q42: =IF(Datos!P22="","",Datos!P22+Datos!Q22*2)
A43: =Datos!J23 -> 0 | B43: =Datos!K23 -> 0 | C43: =Datos!L23 -> 0 | D43: =Datos!M23 | E43: =IF(Datos!B23<>"",(IF(Datos!$G$11="",CONCATENATE(Datos!$I$8,"-",Datos!B23,"-",Datos!$I$8),CONCATENATE(Datos!$G$11,"-",Datos!B23,"-",Datos!$G$11,))),"") | P43: =IF(L17="V. propio",Datos!N23,"") | Q43: =IF(Datos!P23="","",Datos!P23+Datos!Q23*2)
A44: =Datos!J24 -> 0 | B44: =Datos!K24 -> 0 | C44: =Datos!L24 -> 0 | D44: =Datos!M24 | E44: =IF(Datos!B24<>"",(IF(Datos!$G$11="",CONCATENATE(Datos!$I$8,"-",Datos!B24,"-",Datos!$I$8),CONCATENATE(Datos!$G$11,"-",Datos!B24,"-",Datos!$G$11,))),"") | P44: =IF(L18="V. propio",Datos!N24,"") | Q44: =IF(Datos!P24="","",Datos!P24+Datos!Q24*2)
A45: =Datos!J25 -> 0 | B45: =Datos!K25 -> 0 | C45: =Datos!L25 -> 0 | D45: =Datos!M25 | E45: =IF(Datos!B25<>"",(IF(Datos!$G$11="",CONCATENATE(Datos!$I$8,"-",Datos!B25,"-",Datos!$I$8),CONCATENATE(Datos!$G$11,"-",Datos!B25,"-",Datos!$G$11,))),"") | P45: =IF(L19="V. propio",Datos!N25,"") | Q45: =IF(Datos!P25="","",Datos!P25+Datos!Q25*2)
A46: =Datos!J26 -> 0 | B46: =Datos!K26 -> 0 | C46: =Datos!L26 -> 0 | D46: =Datos!M26 | E46: =IF(Datos!B26<>"",(IF(Datos!$G$11="",CONCATENATE(Datos!$I$8,"-",Datos!B26,"-",Datos!$I$8),CONCATENATE(Datos!$G$11,"-",Datos!B26,"-",Datos!$G$11,))),"") | P46: =IF(L20="V. propio",Datos!N26,"") | Q46: =IF(Datos!P26="","",Datos!P26+Datos!Q26*2)
A47: =Datos!J27 -> 0 | B47: =Datos!K27 -> 0 | C47: =Datos!L27 -> 0 | D47: =Datos!M27 | E47: =IF(Datos!B27<>"",(IF(Datos!$G$11="",CONCATENATE(Datos!$I$8,"-",Datos!B27,"-",Datos!$I$8),CONCATENATE(Datos!$G$11,"-",Datos!B27,"-",Datos!$G$11,))),"") | P47: =IF(L21="V. propio",Datos!N27,"") | Q47: =IF(Datos!P27="","",Datos!P27+Datos!Q27*2)
A48: =Datos!J28 -> 0 | B48: =Datos!K28 -> 0 | C48: =Datos!L28 -> 0 | D48: =Datos!M28 | E48: =IF(Datos!B28<>"",(IF(Datos!$G$11="",CONCATENATE(Datos!$I$8,"-",Datos!B28,"-",Datos!$I$8),CONCATENATE(Datos!$G$11,"-",Datos!B28,"-",Datos!$G$11,))),"") | P48: =IF(L22="V. propio",Datos!N28,"") | Q48: =IF(Datos!P28="","",Datos!P28+Datos!Q28*2)
A49: =Datos!J29 -> 0 | B49: =Datos!K29 -> 0 | C49: =Datos!L29 -> 0 | D49: =Datos!M29 | E49: =IF(Datos!B29<>"",(IF(Datos!$G$11="",CONCATENATE(Datos!$I$8,"-",Datos!B29,"-",Datos!$I$8),CONCATENATE(Datos!$G$11,"-",Datos!B29,"-",Datos!$G$11,))),"") | P49: =IF(L23="V. propio",Datos!N29,"") | Q49: =IF(Datos!P29="","",Datos!P29+Datos!Q29*2)
A50: =Datos!J30 -> 0 | B50: =Datos!K30 -> 0 | C50: =Datos!L30 -> 0 | D50: =Datos!M30 | E50: =IF(Datos!B30<>"",(IF(Datos!$G$11="",CONCATENATE(Datos!$I$8,"-",Datos!B30,"-",Datos!$I$8),CONCATENATE(Datos!$G$11,"-",Datos!B30,"-",Datos!$G$11,))),"") | P50: =IF(L24="V. propio",Datos!N30,"") | Q50: =IF(Datos!P30="","",Datos!P30+Datos!Q30*2)
A51: TOTALES............................. | P51: =SUM(P38:P50) -> 0 | Q51: =SUM(Q38:Q50) -> 0
A52: Fecha : | C52: =Datos!M14 -> 0 | K52: PROPONENTE | M52: AUTORIZADO / APROBACIÓN
A53: LA PERSONA COMISIONADA | H53: CERTIFICO: Que las comisiones a que hacen referencia la declaración del interesado, y que fueron propuestas por esta Dirección, han sido realizadas de conformidad con la orden de servicio y se ajustan a la legislación en vigor. | M53: EL DELEGADO PROVINCIAL DE EDUCACIÓN P.D. Resolución de 13/05/26 (DOE nº 92, de 15/05/26)
A54: En | B54: =IF(Datos!G11="",Datos!I8,Datos!G11) -> 0
H55: LA DIRECCIÓN DEL CENTRO
A56: =IF(AND(Datos!$S$1<>"",Datos!$E$3<>"",Datos!$R$3<>"",Datos!$V$3<>"",Datos!$I$4<>"",Datos!$U$4<>"",Datos!$I$6<>"",Datos!$I$8<>"",Datos!$M$13<>"",Datos!$M$14<>""),"","FALTAN DATOS EN HOJA DATOS") -> FALTAN DATOS EN HOJA DATOS | H56: =IF(AND(Datos!$S$1<>"",Datos!$E$3<>"",Datos!$R$3<>"",Datos!$V$3<>"",Datos!$I$4<>"",Datos!$U$4<>"",Datos!$I$6<>"",Datos!$I$8<>"",Datos!$M$13<>"",Datos!$M$14<>""),"","FALTAN DATOS EN HOJA DATOS") -> FALTAN DATOS EN HOJA DATOS | M56: =IF(AND(Datos!$S$1<>"",Datos!$E$3<>"",Datos!$R$3<>"",Datos!$V$3<>"",Datos!$I$4<>"",Datos!$U$4<>"",Datos!$I$6<>"",Datos!$I$8<>"",Datos!$M$13<>"",Datos!$M$14<>""),"","FALTAN DATOS EN HOJA DATOS") -> FALTAN DATOS EN HOJA DATOS
A57: =IF(F5<>"","Fdo.:" &PROPER(F5),"") | H57: =A32 | M57: Fdo.- Eduardo Villaverde Torrecilla
A58: LIQUIDACIÓN DE LA COMISIÓN. (A comprobar y modificar, en su caso, por la Sección de Gestión Económica)
A59: C O N C E P T O | L59: Núm. de ½ manutenciones | M59: TOTAL POR CONCEPTO | N59: Base IRPF | O59: Retención | P59: Liquido
A60: MANUTENCIÓN (Se considera como unidad el importe de 1/2) | L60: =IF(SUM(Datos!P18:'Datos'!P30)<>Datos!Q33,"DATOS MAL",IF(SUM(Datos!Q18:'Datos'!Q30)<>SUM(Datos!S33:'Datos'!U33),"DATOS MAL",IF(Datos!AB25+(Datos!AB26+Datos!AB27)*2>0,Datos!AB25+(Datos!AB26+Datos!AB27)*2,""))) | M60: =IF(Datos!AC28>0,Datos!AC28,"") | N60: =IF(Datos!AE28>0,Datos!AE28,"") | O60: =IF(Datos!AG28>0,Datos!AG28,"") | P60: =IF(Datos!AH28>0,Datos!AH28,"")
A61: TOTAL MANUTENCIÓN | M61: =SUM(M60:M60) -> 0 | N61: =SUM(N60:N60) -> 0 | O61: =SUM(O60:O60) -> 0 | P61: =SUM(P60:Q60) -> 0
A62: LOCOMOCIÓN | H62: =IF(P51<>"","Vehículo propio, (" &P51 &" kms.)","Vehículo propio") -> Vehículo propio, (0 kms.) | M62: =Datos!AC17 -> 0 | N62: =IF(Datos!AE17<>"",Datos!AE17,0) -> 0 | O62: =Datos!AG17 -> 0 | P62: =IF(Datos!AH17<>0,Datos!AH17,0) -> 0
H63: Transporte público | M63: =Datos!AC18 -> 0 | P63: =IF(Datos!AH18>0,Datos!AH18,0) -> 0
H64: Otros | M64: =IF(OR(Datos!AH19>0,Datos!AH20>0),Datos!AH19+Datos!AH20,"") | P64: =IF(OR(Datos!AH19>0,Datos!AH20>0),Datos!AH19+Datos!AH20,"")
A65: TOTAL LOCOMOCIÓN | M65: =SUM(L62:M64) -> 0 | N65: =N62 -> 0 | O65: =O62 -> 0 | P65: =SUM(P62:P64) -> 0
A66: TOTAL TODOS LOS CONCEPTOS | M66: =M61+M65 -> 0 | N66: =N61+N65 -> 0 | O66: =O61+O65 -> 0 | P66: =P61+P65 -> 0
A67: DESGLOSE | I67: Centro Gestor/Posición Pres. | L67: Integro | N67: I.R.P.F. | P67: Liquido
I68: =IF(AND(Datos!U4="Clases de Religión",Datos!I6="COLEGIO DE EDUCACIÓN INFANTIL Y PRIMARIA"),"130020000.G/222A/230.00",IF(Datos!U4="Itinerantes de primaria","130020000.G/222A/230.00",IF(Datos!U4="Itinerantes PT/AL atención a la diversidad","130030000.G/222C/230.00",IF(Datos!I6="INSTITUTO DE EDUCACIÓN SECUNDARIA","130020000.G/222B/230.00",IF(Datos!U4="Prof. Música, Inglés o Ed. Física","130020000.G/222A/230.00",IF(Datos!U4="Docencias aulas EPA","130030000.G/222E/230.00",IF(Datos!U4="Claustros / Tutorías","130020000.G/222A/230.00",IF(Datos!U4="PROA+, CONECTA2…","130030000.G/222C/230.00","130020000.G/222A/230.00")))))))) -> 130020000.G/222A/230.00 | L68: =M61 -> 0 | N68: =O61 -> 0 | P68: =P61 -> 0
I69: =IF(AND(Datos!U4="Clases de Religión",Datos!I6="COLEGIO DE EDUCACIÓN INFANTIL Y PRIMARIA"),"130020000.G/222A/231.00",IF(Datos!U4="Itinerantes de primaria","130020000.G/222A/231.00",IF(Datos!U4="Itinerantes PT/AL atención a la diversidad","130030000.G/222C/231.00",IF(Datos!I6="INSTITUTO DE EDUCACIÓN SECUNDARIA","130020000.G/222B/231.00",IF(Datos!U4="Prof. Música, Inglés o Ed. Física","130020000.G/222A/231.00",IF(Datos!U4="Docencias aulas EPA","130030000.G/222E/231.00",IF(Datos!U4="Claustros / Tutorías","130020000.G/222A/231.00",IF(Datos!U4="PROA+, CONECTA2…","130030000.G/222C/231.00","130020000.G/222A/231.00")))))))) -> 130020000.G/222A/231.00 | L69: =M65 -> 0 | N69: =O65 -> 0 | P69: =P65 -> 0
